Workbook

Sheet Portada
G3: Área de Calidade
C5: Cadro de Mando da Facultade de Comercio
C7: Indicadores do Sistema de Garantía de Calidade
C9: Índice
D10: Datos | F10: Resultados
D11: Indicadores de Centro | F11: Resumo dos Resultados
D12: Anexos do Cadro de Mando | F12: Resultados por procedementos
F13: =+CONCATENATE("Mapa de Procesos do Centro do ",Centro!E4) -> Mapa de Procesos do Centro do Curso X
F14: =+CONCATENATE("Mapa de Procesos do Centro do ",Centro!I4) -> Mapa de Procesos do Centro do Curso X+1
F15: =+CONCATENATE("Mapa de Procesos do Centro do ",Centro!M4) -> Mapa de Procesos do Centro do Curso X+2
D16: Indicadores de Grao en Comercio
D17: Indicadores de Máster Universitario en Dirección de PEMES
D18: Indicadores de Máster Universitario en Comercio Internacional
G20: Maio 2025

Sheet Centro
A2: Panel de indicadores - Cadro de mando da Facultade de Comercio
A4: Indicadores | C4: Procedimientos asociados | E4: Curso X | I4: Curso X+1 | M4: Curso X+2
A5: Cod | B5: Denominación Indicador | C5: Denominación | D5: Descripción e Fonte de Información | E5: Meta | F5: Resultado | G5: Observacións | I5: Meta | J5: Resultado | K5: Observacións | M5: Meta | N5: Resultado | O5: Observacións
A6: Indicadores dos Programas de Calidade | E6: =+COUNTIF(G$7:G$36,"meta Conseguida")+COUNTIF(G$7:G$36,"meta Non Conseguida") -> 0 | F6: =+COUNTIF(G$7:G$36,"meta Conseguida") -> 0 | G6: =+IFERROR(F6/E6,0) -> 0 | I6: =+COUNTIF(K$7:K$36,"meta Conseguida")+COUNTIF(K$7:K$36,"meta Non Conseguida") -> 0 | J6: =+COUNTIF(K$7:K$36,"meta Conseguida") -> 0 | K6: =+IFERROR(J6/I6,0) -> 0 | M6: =+COUNTIF(O$7:O$36,"meta Conseguida")+COUNTIF(O$7:O$36,"meta Non Conseguida") -> 0 | N6: =+COUNTIF(O$7:O$36,"meta Conseguida") -> 0 | O6: =+IFERROR(N6/M6,0) -> 0
A7: I6 | B7: % Participación do PAS do centro en plans de formación | C7: PE-01 Xestión do PAS | D7: Só cubrir o Resultado, é un indicador informativo. Indicar a % do centro da columna "% Formación Si" do documento do "PAS_Formación" do portal de transparencia: https://secretaria.uvigo.gal/uv/web/transparencia/informe/show/5/37/86 Son os resultados do curso 23-24 | E7: ---- | F7: 0.51351351 | G7: =+IF(ISBLANK(F7),"Introducir Resultado","Resultado Introducido") -> Resultado Introducido | I7: ---- | K7: =+IF(ISBLANK(J7),"Introducir Resultado","Resultado Introducido") -> Introducir Resultado | M7: ---- | O7: =+IF(ISBLANK(N7),"Introducir Resultado","Resultado Introducido") -> Introducir Resultado
A9: Indicadores institucionais da Universidade de Vigo
A10: I27 | B10: Nº Queixas recibidas | C10: MC-02: Xestión das queixas, suxestións e parabéns | D10: Cubrir Meta e Resultado. O indicador acádase se o resultado é igual ou inferior á meta. Indicar o Nº de queixas recibidas no curso e que sexan competencia do centro ou das súas titulacións. https://secretaria.uvigo.gal/uv/web/qsp/ | G10: =+IF(AND(ISBLANK(E10),ISBLANK(F10)),"Introducir Meta e Resultado",IF(ISBLANK(E10),"Introducir Meta",IF(ISBLANK(F10),"Introducir Resultado",IF(F10<=E10,"Meta Conseguida","Meta Non Conseguida")))) -> Introducir Meta e Resultado | K10: =+IF(AND(ISBLANK(I10),ISBLANK(J10)),"Introducir Meta e Resultado",IF(ISBLANK(I10),"Introducir Meta",IF(ISBLANK(J10),"Introducir Resultado",IF(J10<=I10,"Meta Conseguida","Meta Non Conseguida")))) -> Introducir Meta e Resultado | O10: =+IF(AND(ISBLANK(M10),ISBLANK(N10)),"Introducir Meta e Resultado",IF(ISBLANK(M10),"Introducir Meta",IF(ISBLANK(N10),"Introducir Resultado",IF(N10<=M10,"Meta Conseguida","Meta Non Conseguida")))) -> Introducir Meta e Resultado
A11: I28 | B11: % de Titulacións que renovaron a súa acreditación | C11: DO-0101: Deseño, verificación, modificación e acreditación das titulacións oficiais | D11: Cubrir Meta e Resultado Indicar a % de titulacións que se imparten no centro que renovaron a súa acreditación sobre o total das titulacións que participaron na renovación da acreditación. Ter en conta únicamente as titulacións que recibiron o informe definitivo neste curso. | G11: =+IF(AND(ISBLANK(E11),ISBLANK(F11)),"Introducir Meta e Resultado",IF(ISBLANK(E11),"Introducir Meta",IF(ISBLANK(F11),"Introducir Resultado",IF(F11>=E11,"Meta Conseguida","Meta Non Conseguida")))) -> Introducir Meta e Resultado | K11: =+IF(AND(ISBLANK(I11),ISBLANK(J11)),"Introducir Meta e Resultado",IF(ISBLANK(I11),"Introducir Meta",IF(ISBLANK(J11),"Introducir Resultado",IF(J11>=I11,"Meta Conseguida","Meta Non Conseguida")))) -> Introducir Meta e Resultado | O11: =+IF(AND(ISBLANK(M11),ISBLANK(N11)),"Introducir Meta e Resultado",IF(ISBLANK(M11),"Introducir Meta",IF(ISBLANK(N11),"Introducir Resultado",IF(N11>=M11,"Meta Conseguida","Meta Non Conseguida")))) -> Introducir Meta e Resultado
A12: I29-1 | B12: Nº Titulacións en proceso de verificación | C12: DO-0101: Deseño, verificación, modificación e acreditación das titulacións oficiais | D12: Só cubrir o Resultado, é un indicador informativo Indicar o Nº de titulacións que se imparten no centro que estan en proceso de verificación. | E12: ---- | G12: =+IF(ISBLANK(F12),"Introducir Resultado","Resultado Introducido") -> Introducir Resultado | I12: ---- | K12: =+IF(ISBLANK(J12),"Introducir Resultado","Resultado Introducido") -> Introducir Resultado | M12: ---- | O12: =+IF(ISBLANK(N12),"Introducir Resultado","Resultado Introducido") -> Introducir Resultado
A13: I29-2 | B13: Nº Titulacións en proceso de modificación substancial | C13: DO-0101: Deseño, verificación, modificación e acreditación das titulacións oficiais | D13: Só cubrir o Resultado, é un indicador informativo Indicar o Nº de titulacións que se imparten no centro que estan en proceso de modificación substancial. | E13: ---- | G13: =+IF(ISBLANK(F13),"Introducir Resultado","Resultado Introducido") -> Introducir Resultado | I13: ---- | K13: =+IF(ISBLANK(J13),"Introducir Resultado","Resultado Introducido") -> Introducir Resultado | M13: ---- | O13: =+IF(ISBLANK(N13),"Introducir Resultado","Resultado Introducido") -> Introducir Resultado
A14: I29-3 | B14: Nº Titulacións en proceso de renovación da acreditación | C14: DO-0101: Deseño, verificación, modificación e acreditación das titulacións oficiais | D14: Só cubrir o Resultado, é un indicador informativo Indicar o Nº de titulacións que se imparten no centro que estan en proceso de renovación da acreditación. | E14: ---- | G14: =+IF(ISBLANK(F14),"Introducir Resultado","Resultado Introducido") -> Introducir Resultado | I14: ---- | K14: =+IF(ISBLANK(J14),"Introducir Resultado","Resultado Introducido") -> Introducir Resultado | M14: ---- | O14: =+IF(ISBLANK(N14),"Introducir Resultado","Resultado Introducido") -> Introducir Resultado
A15: I30 | B15: % Titulacións con avaliación favorable en Seguimento | C15: DO-0102: Seguimento e mellora das titulacións | D15: Cubrir Meta e Resultado Indicar a % de titulacións que se imparten no centro que obtiveron unha avaliación Favorable no Informe de definitivo do Seguimento da ACSUG sobre o total das titulacións que participaron. Incluír únicamente as titulacións que recibiron o informe final neste curso. | G15: =+IF(AND(ISBLANK(E15),ISBLANK(F15)),"Introducir Meta e Resultado",IF(ISBLANK(E15),"Introducir Meta",IF(ISBLANK(F15),"Introducir Resultado",IF(F15>=E15,"Meta Conseguida","Meta Non Conseguida")))) -> Introducir Meta e Resultado | K15: =+IF(AND(ISBLANK(I15),ISBLANK(J15)),"Introducir Meta e Resultado",IF(ISBLANK(I15),"Introducir Meta",IF(ISBLANK(J15),"Introducir Resultado",IF(J15>=I15,"Meta Conseguida","Meta Non Conseguida")))) -> Introducir Meta e Resultado | O15: =+IF(AND(ISBLANK(M15),ISBLANK(N15)),"Introducir Meta e Resultado",IF(ISBLANK(M15),"Introducir Meta",IF(ISBLANK(N15),"Introducir Resultado",IF(N15>=M15,"Meta Conseguida","Meta Non Conseguida")))) -> Introducir Meta e Resultado
A16: I31 | B16: Nº Titulacións en proceso de Seguimento | C16: DO-0102: Seguimento e mellora das titulacións | D16: Só cubrir o Resultado, é un indicador informativo Indicar o Nº de titulacións que se imparten no centro que estan en proceso de seguimento da ACSUG | E16: ---- | G16: =+IF(ISBLANK(F16),"Introducir Resultado","Indicador Completado") -> Introducir Resultado | I16: ---- | K16: =+IF(ISBLANK(J16),"Introducir Resultado","Indicador Completado") -> Introducir Resultado | M16: ---- | O16: =+IF(ISBLANK(N16),"Introducir Resultado","Indicador Completado") -> Introducir Resultado
A17: I32 | B17: Nº Titulacións en proceso de extinción ou suspensión | C17: DO-0103: Suspensión e extinción dunha titulación | D17: Só cubrir o Resultado, é un indicador informativo Indicar o Nº de titulacións que se impartiron no centro no curso pasado, que están nun proceso de suspensión ou extinción | E17: ---- | G17: =+IF(ISBLANK(F17),"Introducir Resultado","Indicador Completado") -> Introducir Resultado | I17: ---- | K17: =+IF(ISBLANK(J17),"Introducir Resultado","Indicador Completado") -> Introducir Resultado | M17: ---- | O17: =+IF(ISBLANK(N17),"Introducir Resultado","Indicador Completado") -> Introducir Resultado
A18: I33 | B18: Nº Accións de promoción realizadas | C18: DO-0202 Promoción das titulacións | D18: Só cubrir o Resultado, é un indicador informativo Indicar o Nº de accións de promoción realizadas segundo o plan de promoción previsto polo centro e as súas titulacións. | E18: ---- | G18: =+IF(ISBLANK(F18),"Introducir Resultado","Indicador Completado") -> Introducir Resultado | I18: ---- | K18: =+IF(ISBLANK(J18),"Introducir Resultado","Indicador Completado") -> Introducir Resultado | M18: ---- | O18: =+IF(ISBLANK(N18),"Introducir Resultado","Indicador Completado") -> Introducir Resultado
A19: I34 | B19: Nº Accións de mellora definidas neste curso | C19: DO-0102: Seguimento e mellora das titulacións | D19: Só cubrir o Resultado, é un indicador informativo Nº de melloras rexistradas asociadas ao centro na aplicación SGIC neste curso | E19: ---- | G19: =+IF(ISBLANK(F19),"Introducir Resultado","Indicador Completado") -> Introducir Resultado | I19: ---- | K19: =+IF(ISBLANK(J19),"Introducir Resultado","Indicador Completado") -> Introducir Resultado | M19: ---- | O19: =+IF(ISBLANK(N19),"Introducir Resultado","Indicador Completado") -> Introducir Resultado
A20: I37 | B20: Grao de Satisfacción do estudantado co PAT | C20: DO-0203: Orientación do estudantado e atención ás NEAE | D20: Cubrir Meta e Resultado Indicar o Grao de satisfacción do estudantado co PAT, mediante unha enquisa vosa. No caso de utilizar a enquisa do Anexo IV-A da "Guía para a elaboración do PAT", incluiríase o valor do ítem 4 " Valore o grao de utilidade do PAT" | G20: =+IF(AND(ISBLANK(E20),ISBLANK(F20)),"Introducir Meta e Resultado",IF(ISBLANK(E20),"Introducir Meta",IF(ISBLANK(F20),"Introducir Resultado",IF(F20>=E20,"Meta Conseguida","Meta Non Conseguida")))) -> Introducir Meta e Resultado | K20: =+IF(AND(ISBLANK(I20),ISBLANK(J20)),"Introducir Meta e Resultado",IF(ISBLANK(I20),"Introducir Meta",IF(ISBLANK(J20),"Introducir Resultado",IF(J20>=I20,"Meta Conseguida","Meta Non Conseguida")))) -> Introducir Meta e Resultado | O20: =+IF(AND(ISBLANK(M20),ISBLANK(N20)),"Introducir Meta e Resultado",IF(ISBLANK(M20),"Introducir Meta",IF(ISBLANK(N20),"Introducir Resultado",IF(N20>=M20,"Meta Conseguida","Meta Non Conseguida")))) -> Introducir Meta e Resultado
A21: I40 | B21: Nº de procedementos actualizados no curso académico | C21: XD-01: Control dos documentos e dos rexistros | D21: Só cubrir o Resultado, é un indicador informativo Indicar o Nº de procedementos actualizados neste curso | E21: ---- | G21: =+IF(ISBLANK(F21),"Introducir Resultado","Indicador Completado") -> Introducir Resultado | I21: ---- | K21: =+IF(ISBLANK(J21),"Introducir Resultado","Indicador Completado") -> Introducir Resultado | M21: ---- | O21: =+IF(ISBLANK(N21),"Introducir Resultado","Indicador Completado") -> Introducir Resultado
A22: I41 | B22: % Rexistros en estado completado na aplicación SGIC | C22: XD-01: Control dos documentos e dos rexistros | D22: Cubrir Meta e Resultado Indicar a % de rexistros co estado "Completado" na aplicación SGIC do curso pasado | G22: =+IF(AND(ISBLANK(E22),ISBLANK(F22)),"Introducir Meta e Resultado",IF(ISBLANK(E22),"Introducir Meta",IF(ISBLANK(F22),"Introducir Resultado",IF(F22>=E22,"Meta Conseguida","Meta Non Conseguida")))) -> Introducir Meta e Resultado | K22: =+IF(AND(ISBLANK(I22),ISBLANK(J22)),"Introducir Meta e Resultado",IF(ISBLANK(I22),"Introducir Meta",IF(ISBLANK(J22),"Introducir Resultado",IF(J22>=I22,"Meta Conseguida","Meta Non Conseguida")))) -> Introducir Meta e Resultado | O22: =+IF(AND(ISBLANK(M22),ISBLANK(N22)),"Introducir Meta e Resultado",IF(ISBLANK(M22),"Introducir Meta",IF(ISBLANK(N22),"Introducir Resultado",IF(N22>=M22,"Meta Conseguida","Meta Non Conseguida")))) -> Introducir Meta e Resultado
A24: Indicadores do programa estratéxico de centro
A26: I50 | B26: Indicadores do programa estratexico do centro | C26: DE-01: Programación e desenvolvemento estratéxico | D26: Só Cubrir a Meta entre os valores [0-10] Nº dos obxectivos I50-1 ata I50-10 que se acadan | E26: =+COUNTA(G27:G36)-COUNTIF(G27:G36,"Non hai indicador")-COUNTIF(G27:G36,"Introducir Meta e Resultado") -> 0 | F26: =+COUNTIF(G27:G36,"Meta Conseguida") -> 0 | G26: =+IF(F26=0,"Ningunha Meta Alcanzada",IF(F26=E26,"Meta Totalmente Alcanzada",IF(F26>0,"Meta Parcialmente Alcanzada"))) -> Ningunha Meta Alcanzada | I26: =+COUNTA(K27:K36)-COUNTIF(K27:K36,"Non hai indicador")-COUNTIF(K27:K36,"Introducir Meta e Resultado") -> 0 | J26: =+COUNTIF(K27:K36,"Meta Conseguida") -> 0 | K26: =+IF(J26=0,"Ningunha Meta Alcanzada",IF(J26=I26,"Meta Totalmente Alcanzada",IF(J26>0,"Meta Parcialmente Alcanzada"))) -> Ningunha Meta Alcanzada | M26: =+COUNTA(O27:O36)-COUNTIF(O27:O36,"Non hai indicador")-COUNTIF(O27:O36,"Introducir Meta e Resultado") -> 0 | N26: =+COUNTIF(O27:O36,"Meta Conseguida") -> 0 | O26: =+IF(N26=0,"Ningunha Meta Alcanzada",IF(N26=M26,"Meta Totalmente Alcanzada",IF(N26>0,"Meta Parcialmente Alcanzada"))) -> Ningunha Meta Alcanzada
A27: I50-1 | B27: Indicador 1 | C27: DE-01: Programación e desenvolvemento estratéxico | D27: Este indicador está establecido polo centro, e está asociado a esta titulación. Indicar o resultado e a meta asociada. | G27: =+IF(AND(ISBLANK(E27),ISBLANK(F27)),"Introducir Meta e Resultado",IF(ISBLANK(E27),"Introducir Meta",IF(ISBLANK(F27),"Introducir Resultado",IF(F27>=E27,"Meta Conseguida","Meta Non Conseguida")))) -> Introducir Meta e Resultado | K27: =+IF(AND(ISBLANK(I27),ISBLANK(J27)),"Introducir Meta e Resultado",IF(ISBLANK(I27),"Introducir Meta",IF(ISBLANK(J27),"Introducir Resultado",IF(J27>=I27,"Meta Conseguida","Meta Non Conseguida")))) -> Introducir Meta e Resultado | O27: =+IF(AND(ISBLANK(M27),ISBLANK(N27)),"Introducir Meta e Resultado",IF(ISBLANK(M27),"Introducir Meta",IF(ISBLANK(N27),"Introducir Resultado",IF(N27>=M27,"Meta Conseguida","Meta Non Conseguida")))) -> Introducir Meta e Resultado
A28: I50-2 | B28: Indicador 2 | C28: DE-01: Programación e desenvolvemento estratéxico | D28: Este indicador está establecido polo centro, e está asociado ao centro. Indicar o resultado e a meta asociada. | G28: =+IF(AND(ISBLANK(E28),ISBLANK(F28)),"Introducir Meta e Resultado",IF(ISBLANK(E28),"Introducir Meta",IF(ISBLANK(F28),"Introducir Resultado",IF(F28>=E28,"Meta Conseguida","Meta Non Conseguida")))) -> Introducir Meta e Resultado | K28: =+IF(AND(ISBLANK(I28),ISBLANK(J28)),"Introducir Meta e Resultado",IF(ISBLANK(I28),"Introducir Meta",IF(ISBLANK(J28),"Introducir Resultado",IF(J28>=I28,"Meta Conseguida","Meta Non Conseguida")))) -> Introducir Meta e Resultado | O28: =+IF(AND(ISBLANK(M28),ISBLANK(N28)),"Introducir Meta e Resultado",IF(ISBLANK(M28),"Introducir Meta",IF(ISBLANK(N28),"Introducir Resultado",IF(N28>=M28,"Meta Conseguida","Meta Non Conseguida")))) -> Introducir Meta e Resultado
A29: I50-3 | B29: Indicador 3 | C29: DE-01: Programación e desenvolvemento estratéxico | D29: Este indicador está establecido polo centro, e está asociado ao centro. Indicar o resultado e a meta asociada. | G29: =+IF(AND(ISBLANK(E29),ISBLANK(F29)),"Introducir Meta e Resultado",IF(ISBLANK(E29),"Introducir Meta",IF(ISBLANK(F29),"Introducir Resultado",IF(F29>=E29,"Meta Conseguida","Meta Non Conseguida")))) -> Introducir Meta e Resultado | K29: =+IF(AND(ISBLANK(I29),ISBLANK(J29)),"Introducir Meta e Resultado",IF(ISBLANK(I29),"Introducir Meta",IF(ISBLANK(J29),"Introducir Resultado",IF(J29>=I29,"Meta Conseguida","Meta Non Conseguida")))) -> Introducir Meta e Resultado | O29: =+IF(AND(ISBLANK(M29),ISBLANK(N29)),"Introducir Meta e Resultado",IF(ISBLANK(M29),"Introducir Meta",IF(ISBLANK(N29),"Introducir Resultado",IF(N29>=M29,"Meta Conseguida","Meta Non Conseguida")))) -> Introducir Meta e Resultado
A30: I50-4 | B30: Indicador 4 | C30: DE-01: Programación e desenvolvemento estratéxico | D30: Este indicador está establecido polo centro, e está asociado ao centro. Indicar o resultado e a meta asociada. | G30: =+IF(AND(ISBLANK(E30),ISBLANK(F30)),"Introducir Meta e Resultado",IF(ISBLANK(E30),"Introducir Meta",IF(ISBLANK(F30),"Introducir Resultado",IF(F30>=E30,"Meta Conseguida","Meta Non Conseguida")))) -> Introducir Meta e Resultado | K30: =+IF(AND(ISBLANK(I30),ISBLANK(J30)),"Introducir Meta e Resultado",IF(ISBLANK(I30),"Introducir Meta",IF(ISBLANK(J30),"Introducir Resultado",IF(J30>=I30,"Meta Conseguida","Meta Non Conseguida")))) -> Introducir Meta e Resultado | O30: =+IF(AND(ISBLANK(M30),ISBLANK(N30)),"Introducir Meta e Resultado",IF(ISBLANK(M30),"Introducir Meta",IF(ISBLANK(N30),"Introducir Resultado",IF(N30>=M30,"Meta Conseguida","Meta Non Conseguida")))) -> Introducir Meta e Resultado
A31: I50-5 | B31: Indicador 5 | C31: DE-01: Programación e desenvolvemento estratéxico | D31: Este indicador está establecido polo centro, e está asociado ao centro. Indicar o resultado e a meta asociada. | G31: =+IF(AND(ISBLANK(E31),ISBLANK(F31)),"Introducir Meta e Resultado",IF(ISBLANK(E31),"Introducir Meta",IF(ISBLANK(F31),"Introducir Resultado",IF(F31>=E31,"Meta Conseguida","Meta Non Conseguida")))) -> Introducir Meta e Resultado | K31: =+IF(AND(ISBLANK(I31),ISBLANK(J31)),"Introducir Meta e Resultado",IF(ISBLANK(I31),"Introducir Meta",IF(ISBLANK(J31),"Introducir Resultado",IF(J31>=I31,"Meta Conseguida","Meta Non Conseguida")))) -> Introducir Meta e Resultado | O31: =+IF(AND(ISBLANK(M31),ISBLANK(N31)),"Introducir Meta e Resultado",IF(ISBLANK(M31),"Introducir Meta",IF(ISBLANK(N31),"Introducir Resultado",IF(N31>=M31,"Meta Conseguida","Meta Non Conseguida")))) -> Introducir Meta e Resultado
A32: I50-6 | B32: Indicador 6 | C32: DE-01: Programación e desenvolvemento estratéxico | D32: Este indicador está establecido polo centro, e está asociado ao centro. Indicar o resultado e a meta asociada. | G32: =+IF(AND(ISBLANK(E32),ISBLANK(F32)),"Introducir Meta e Resultado",IF(ISBLANK(E32),"Introducir Meta",IF(ISBLANK(F32),"Introducir Resultado",IF(F32>=E32,"Meta Conseguida","Meta Non Conseguida")))) -> Introducir Meta e Resultado | K32: =+IF(AND(ISBLANK(I32),ISBLANK(J32)),"Introducir Meta e Resultado",IF(ISBLANK(I32),"Introducir Meta",IF(ISBLANK(J32),"Introducir Resultado",IF(J32>=I32,"Meta Conseguida","Meta Non Conseguida")))) -> Introducir Meta e Resultado | O32: =+IF(AND(ISBLANK(M32),ISBLANK(N32)),"Introducir Meta e Resultado",IF(ISBLANK(M32),"Introducir Meta",IF(ISBLANK(N32),"Introducir Resultado",IF(N32>=M32,"Meta Conseguida","Meta Non Conseguida")))) -> Introducir Meta e Resultado
A33: I50-7 | B33: Indicador 7 | C33: DE-01: Programación e desenvolvemento estratéxico | D33: Este indicador está establecido polo centro, e está asociado ao centro. Indicar o resultado e a meta asociada. | G33: =+IF(AND(ISBLANK(E33),ISBLANK(F33)),"Introducir Meta e Resultado",IF(ISBLANK(E33),"Introducir Meta",IF(ISBLANK(F33),"Introducir Resultado",IF(F33>=E33,"Meta Conseguida","Meta Non Conseguida")))) -> Introducir Meta e Resultado | K33: =+IF(AND(ISBLANK(I33),ISBLANK(J33)),"Introducir Meta e Resultado",IF(ISBLANK(I33),"Introducir Meta",IF(ISBLANK(J33),"Introducir Resultado",IF(J33>=I33,"Meta Conseguida","Meta Non Conseguida")))) -> Introducir Meta e Resultado | O33: =+IF(AND(ISBLANK(M33),ISBLANK(N33)),"Introducir Meta e Resultado",IF(ISBLANK(M33),"Introducir Meta",IF(ISBLANK(N33),"Introducir Resultado",IF(N33>=M33,"Meta Conseguida","Meta Non Conseguida")))) -> Introducir Meta e Resultado
A34: I50-8 | B34: Indicador 8 | C34: DE-01: Programación e desenvolvemento estratéxico | D34: Este indicador está establecido polo centro, e está asociado ao centro. Indicar o resultado e a meta asociada. | G34: =+IF(AND(ISBLANK(E34),ISBLANK(F34)),"Introducir Meta e Resultado",IF(ISBLANK(E34),"Introducir Meta",IF(ISBLANK(F34),"Introducir Resultado",IF(F34>=E34,"Meta Conseguida","Meta Non Conseguida")))) -> Introducir Meta e Resultado | K34: =+IF(AND(ISBLANK(I34),ISBLANK(J34)),"Introducir Meta e Resultado",IF(ISBLANK(I34),"Introducir Meta",IF(ISBLANK(J34),"Introducir Resultado",IF(J34>=I34,"Meta Conseguida","Meta Non Conseguida")))) -> Introducir Meta e Resultado | O34: =+IF(AND(ISBLANK(M34),ISBLANK(N34)),"Introducir Meta e Resultado",IF(ISBLANK(M34),"Introducir Meta",IF(ISBLANK(N34),"Introducir Resultado",IF(N34>=M34,"Meta Conseguida","Meta Non Conseguida")))) -> Introducir Meta e Resultado
A35: I50-9 | B35: Indicador 9 | C35: DE-01: Programación e desenvolvemento estratéxico | D35: Este indicador está establecido polo centro, e está asociado ao centro. Indicar o resultado e a meta asociada. | G35: =+IF(AND(ISBLANK(E35),ISBLANK(F35)),"Introducir Meta e Resultado",IF(ISBLANK(E35),"Introducir Meta",IF(ISBLANK(F35),"Introducir Resultado",IF(F35>=E35,"Meta Conseguida","Meta Non Conseguida")))) -> Introducir Meta e Resultado | K35: =+IF(AND(ISBLANK(I35),ISBLANK(J35)),"Introducir Meta e Resultado",IF(ISBLANK(I35),"Introducir Meta",IF(ISBLANK(J35),"Introducir Resultado",IF(J35>=I35,"Meta Conseguida","Meta Non Conseguida")))) -> Introducir Meta e Resultado | O35: =+IF(AND(ISBLANK(M35),ISBLANK(N35)),"Introducir Meta e Resultado",IF(ISBLANK(M35),"Introducir Meta",IF(ISBLANK(N35),"Introducir Resultado",IF(N35>=M35,"Meta Conseguida","Meta Non Conseguida")))) -> Introducir Meta e Resultado
A36: I50-10 | B36: Indicador 10 | C36: DE-01: Programación e desenvolvemento estratéxico | D36: Este indicador está establecido polo centro, e está asociado ao centro. Indicar o resultado e a meta asociada. | G36: =+IF(AND(ISBLANK(E36),ISBLANK(F36)),"Introducir Meta e Resultado",IF(ISBLANK(E36),"Introducir Meta",IF(ISBLANK(F36),"Introducir Resultado",IF(F36>=E36,"Meta Conseguida","Meta Non Conseguida")))) -> Introducir Meta e Resultado | K36: =+IF(AND(ISBLANK(I36),ISBLANK(J36)),"Introducir Meta e Resultado",IF(ISBLANK(I36),"Introducir Meta",IF(ISBLANK(J36),"Introducir Resultado",IF(J36>=I36,"Meta Conseguida","Meta Non Conseguida")))) -> Introducir Meta e Resultado | O36: =+IF(AND(ISBLANK(M36),ISBLANK(N36)),"Introducir Meta e Resultado",IF(ISBLANK(M36),"Introducir Meta",IF(ISBLANK(N36),"Introducir Resultado",IF(N36>=M36,"Meta Conseguida","Meta Non Conseguida")))) -> Introducir Meta e Resultado

Sheet GComer
A2: Panel de indicadores- Cadro de mando do Grao en Comercio
A4: Indicadores | C4: Procedimientos asociados | E4: =+Centro!E4 -> Curso X | I4: =+Centro!I4 -> Curso X+1 | M4: =+Centro!M4 -> Curso X+2
A5: Cod | B5: Denominación Indicador | C5: Denominación | D5: Descripción e Fonte de Información | E5: Meta | F5: Resultado | G5: Observacións | I5: Meta | J5: Resultado | K5: Observacións | M5: Meta | N5: Resultado | O5: Observacións
A6: Indicadores dos Programas de Calidade
A7: I1-I2 | B7: Nº Estudantes de novo ingreso (Grao e Máster) | C7: AC-01: Acceso, evolución e Expedición de Titulos Oficiais | D7: Cubrir Meta e Resultado Elixir o documento Grao ACC_1 ou Máster ACC_1, segundo o caso: https://secretaria.uvigo.gal/uv/web/transparencia/informe/show/5/51/63 Os resultados son do curso 23/24 | F7: 73 | G7: =+IF(AND(ISBLANK(E7),ISBLANK(F7)),"Introducir Meta e Resultado",IF(ISBLANK(E7),"Introducir Meta",IF(ISBLANK(F7),"Introducir Resultado",IF(F7>=E7,"Meta Conseguida","Meta Non Conseguida")))) -> Introducir Meta | K7: =+IF(AND(ISBLANK(I7),ISBLANK(J7)),"Introducir Meta e Resultado",IF(ISBLANK(I7),"Introducir Meta",IF(ISBLANK(J7),"Introducir Resultado",IF(J7>=I7,"Meta Conseguida","Meta Non Conseguida")))) -> Introducir Meta e Resultado | O7: =+IF(AND(ISBLANK(M7),ISBLANK(N7)),"Introducir Meta e Resultado",IF(ISBLANK(M7),"Introducir Meta",IF(ISBLANK(N7),"Introducir Resultado",IF(N7>=M7,"Meta Conseguida","Meta Non Conseguida")))) -> Introducir Meta e Resultado
A8: I3 | B8: Indicadores de mobilidade do estudantado | C8: DO-0205: Xestión da mobilidade | D8: Nº dos obxectivos I3-1 e I3-2 que se acadan | E8: =+COUNTA(E9:E10) -> 0 | F8: =+COUNTIF(G9:G10,"Meta Conseguida") -> 0 | G8: =+IF(F8=0,"Ningunha Meta Alcanzada",IF(F8>=E8,"Meta Totalmente Alcanzada",IF(F8>0,"Meta Parcialmente Alcanzada"))) -> Ningunha Meta Alcanzada | I8: =+COUNTA(I9:I10) -> 0 | J8: =+COUNTIF(K9:K10,"Meta Conseguida") -> 0 | K8: =+IF(J8=0,"Ningunha Meta Alcanzada",IF(J8>=I8,"Meta Totalmente Alcanzada",IF(J8>0,"Meta Parcialmente Alcanzada"))) -> Ningunha Meta Alcanzada | M8: =+COUNTA(M9:M10) -> 0 | N8: =+COUNTIF(O9:O10,"Meta Conseguida") -> 0 | O8: =+IF(N8=0,"Ningunha Meta Alcanzada",IF(N8>=M8,"Meta Totalmente Alcanzada",IF(N8>0,"Meta Parcialmente Alcanzada"))) -> Ningunha Meta Alcanzada
A9: I3-1 | B9: Nº Estudantes propios que participan en programas de mobilidade | C9: DO-0205: Xestión da mobilidade | D9: Cubrir Meta e Resultado Selecciónar o dato da titulación da columna "Total_SAÍNTE" da Folla Mobilidade_TOTAL do documento "Mobilidade" do portal de transparencia. https://secretaria.uvigo.gal/uv/web/transparencia/informe/show/5/4/19 Os resultados son do curso 23/24 | F9: 22 | G9: =+IF(AND(ISBLANK(E9),ISBLANK(F9)),"Introducir Meta e Resultado",IF(ISBLANK(E9),"Introducir Meta",IF(ISBLANK(F9),"Introducir Resultado",IF(F9>=E9,"Meta Conseguida","Meta Non Conseguida")))) -> Introducir Meta | K9: =+IF(AND(ISBLANK(I9),ISBLANK(J9)),"Introducir Meta e Resultado",IF(ISBLANK(I9),"Introducir Meta",IF(ISBLANK(J9),"Introducir Resultado",IF(J9>=I9,"Meta Conseguida","Meta Non Conseguida")))) -> Introducir Meta e Resultado | O9: =+IF(AND(ISBLANK(M9),ISBLANK(N9)),"Introducir Meta e Resultado",IF(ISBLANK(M9),"Introducir Meta",IF(ISBLANK(N9),"Introducir Resultado",IF(N9>=M9,"Meta Conseguida","Meta Non Conseguida")))) -> Introducir Meta e Resultado
A10: I3-2 | B10: % Estudantes que participan en programas de mobilidade | C10: DO-0205: Xestión da mobilidade | D10: Só Cubrir a Meta. O Resultado calcúlase de xeito automático % Estudantado que participa en programas de mobilidade con relación ao estudantado matriculado. Porcentaxe que se calcula de xeito automático, a partir do indicador I3-1 e I45 | F10: =+IFERROR(F$9/F$87,0) -> 0.068965517 | G10: =+IF(AND(ISBLANK(E10),ISBLANK(F10)),"Introducir Meta e Resultado",IF(ISBLANK(E10),"Introducir Meta",IF(ISBLANK(F10),"Introducir Resultado",IF(F10>=E10,"Meta Conseguida","Meta Non Conseguida")))) -> Introducir Meta | J10: =+IFERROR(J$9/J$87,0) -> 0 | K10: =+IF(AND(ISBLANK(I10),ISBLANK(J10)),"Introducir Meta e Resultado",IF(ISBLANK(I10),"Introducir Meta",IF(ISBLANK(J10),"Introducir Resultado",IF(J10>=I10,"Meta Conseguida","Meta Non Conseguida")))) -> Introducir Meta | N10: =+IFERROR(N$9/N$87,0) -> 0 | O10: =+IF(AND(ISBLANK(M10),ISBLANK(N10)),"Introducir Meta e Resultado",IF(ISBLANK(M10),"Introducir Meta",IF(ISBLANK(N10),"Introducir Resultado",IF(N10>=M10,"Meta Conseguida","Meta Non Conseguida")))) -> Introducir Meta
A11: I4 | B11: Resultados dos indicadores do SGC | C11: DE-02 Seguimento e Medición | D11: Non Cubrir a Meta nin o Resultado. Calcúlanse de xeito automático Este indicador mostra a porcentaxe dos obxectivos que acadan as súas metas establecidas. | E11: =+F11+COUNTIF(G$7:G$10,"Meta non Conseguida")+COUNTIF(G$12:G$102,"Meta non Conseguida") -> 0 | F11: =+COUNTIF(G$6:G$10,"Meta Conseguida")+COUNTIF(G$12:G$102,"Meta Conseguida") -> 0 | G11: =+IFERROR(F11/E11,"Introducir Meta") -> Introducir Meta | I11: =+J11+COUNTIF(K$7:K$10,"Meta non Conseguida")+COUNTIF(K$12:K$102,"Meta non Conseguida") -> 0 | J11: =+COUNTIF(K$6:K$10,"Meta Conseguida")+COUNTIF(K$12:K$102,"Meta Conseguida") -> 0 | K11: =+IFERROR(J11/I11,"Introducir Meta") -> Introducir Meta | M11: =+N11+COUNTIF(O$7:O$10,"Meta non Conseguida")+COUNTIF(O$12:O$102,"Meta non Conseguida") -> 0 | N11: =+COUNTIF(O$6:O$10,"Meta Conseguida")+COUNTIF(O$12:O$102,"Meta Conseguida") -> 0 | O11: =+IFERROR(N11/M11,"Introducir Meta") -> Introducir Meta
A12: I5 | B12: Indicadores de formación do PDI | C12: PE-02 Xestión de PDI | D12: Nº dos obxectivos I5-1 e I5-2 que se acadan | E12: =+COUNTA(E13:E14) -> 0 | F12: =+COUNTIF(G13:G14,"Meta Conseguida") -> 0 | G12: =+IF(F12=0,"Ningunha Meta Alcanzada",IF(F12>=E12,"Meta Totalmente Alcanzada",IF(F12>0,"Meta Parcialmente Alcanzada"))) -> Ningunha Meta Alcanzada | I12: =+COUNTA(I13:I14) -> 0 | J12: =+COUNTIF(K13:K14,"Meta Conseguida") -> 0 | K12: =+IF(J12=0,"Ningunha Meta Alcanzada",IF(J12>=I12,"Meta Totalmente Alcanzada",IF(J12>0,"Meta Parcialmente Alcanzada"))) -> Ningunha Meta Alcanzada | M12: =+COUNTA(M13:M14) -> 0 | N12: =+COUNTIF(O13:O14,"Meta Conseguida") -> 0 | O12: =+IF(N12=0,"Ningunha Meta Alcanzada",IF(N12>=M12,"Meta Totalmente Alcanzada",IF(N12>0,"Meta Parcialmente Alcanzada"))) -> Ningunha Meta Alcanzada
A13: I5-1 | B13: Nº PDI en plans de formación do título | C13: PE-02 Xestión de PDI | D13: Cubrir Meta e Resultado Seleccionar o dato na consulta "FOR.Formación e mobilidade do PDI" do portal de transparencia https://secretaria.uvigo.gal/uv/web/transparencia/informe/show/5/34/68 Os resultados son do curso 23/24 | F13: 16 | G13: =+IF(AND(ISBLANK(E13),ISBLANK(F13)),"Introducir Meta e Resultado",IF(ISBLANK(E13),"Introducir Meta",IF(ISBLANK(F13),"Introducir Resultado",IF(F13>=E13,"Meta Conseguida","Meta Non Conseguida")))) -> Introducir Meta | K13: =+IF(AND(ISBLANK(I13),ISBLANK(J13)),"Introducir Meta e Resultado",IF(ISBLANK(I13),"Introducir Meta",IF(ISBLANK(J13),"Introducir Resultado",IF(J13>=I13,"Meta Conseguida","Meta Non Conseguida")))) -> Introducir Meta e Resultado | O13: =+IF(AND(ISBLANK(M13),ISBLANK(N13)),"Introducir Meta e Resultado",IF(ISBLANK(M13),"Introducir Meta",IF(ISBLANK(N13),"Introducir Resultado",IF(N13>=M13,"Meta Conseguida","Meta Non Conseguida")))) -> Introducir Meta e Resultado
A14: I5-2 | B14: % Participación do PDI do título en plans de formación | C14: PE-02 Xestión de PDI | D14: Cubrir a Meta. O Resultado calcúlase de xeito automático. É a porcentaxe do PDI que participa en plans de formación, que se calcula de xeito automático a partir do indicador I5-1 e I46 | F14: =+IFERROR(F$13/F$88,0) -> 0.26229508 | G14: =+IF(AND(ISBLANK(E14),ISBLANK(F14)),"Introducir Meta e Resultado",IF(ISBLANK(E14),"Introducir Meta",IF(ISBLANK(F14),"Introducir Resultado",IF(F14>=E14,"Meta Conseguida","Meta Non Conseguida")))) -> Introducir Meta | J14: =+IFERROR(J$13/J$88,0) -> 0 | K14: =+IF(AND(ISBLANK(I14),ISBLANK(J14)),"Introducir Meta e Resultado",IF(ISBLANK(I14),"Introducir Meta",IF(ISBLANK(J14),"Introducir Resultado",IF(J14>=I14,"Meta Conseguida","Meta Non Conseguida")))) -> Introducir Meta | N14: =+IFERROR(N$13/N$88,0) -> 0 | O14: =+IF(AND(ISBLANK(M14),ISBLANK(N14)),"Introducir Meta e Resultado",IF(ISBLANK(M14),"Introducir Meta",IF(ISBLANK(N14),"Introducir Resultado",IF(N14>=M14,"Meta Conseguida","Meta Non Conseguida")))) -> Introducir Meta
A15: I6-AI | B15: % Participación do PDI en Grupos de Innovación Docente | C15: PE-02 Xestión de PDI | D15: Só cubrir o Resultado, é un indicador informativo E a porcentaxe do PDI que participa en Grupos de innovación docente | E15: ---- | F15: 0.032786885 | G15: =+IF(ISBLANK(F15),"Introducir Resultado","Resultado Introducido") -> Resultado Introducido | I15: ---- | K15: =+IF(ISBLANK(J15),"Introducir Resultado","Resultado Introducido") -> Introducir Resultado | M15: ---- | O15: =+IF(ISBLANK(N15),"Introducir Resultado","Resultado Introducido") -> Introducir Resultado
A16: I7 | B16: % PDI do título avaliado polo programa DOCENTIA e resultados obtidos | C16: PE-02 Xestión de PDI | D16: Nº dos obxectivos (I7-1 e I7-2) que se acadan | E16: =+COUNTA(E17:E18) -> 0 | F16: =+COUNTIF(G17:G18,"Meta Conseguida") -> 0 | G16: =+IF(F16=0,"Ningunha Meta Alcanzada",IF(F16>=E16,"Meta Totalmente Alcanzada",IF(F16>0,"Meta Parcialmente Alcanzada"))) -> Ningunha Meta Alcanzada | I16: =+COUNTA(I17:I18) -> 0 | J16: =+COUNTIF(K17:K18,"Meta Conseguida") -> 0 | K16: =+IF(J16=0,"Ningunha Meta Alcanzada",IF(J16>=I16,"Meta Totalmente Alcanzada",IF(J16>0,"Meta Parcialmente Alcanzada"))) -> Ningunha Meta Alcanzada | M16: =+COUNTA(M17:M18) -> 0 | N16: =+COUNTIF(O17:O18,"Meta Conseguida") -> 0 | O16: =+IF(N16=0,"Ningunha Meta Alcanzada",IF(N16>=M16,"Meta Totalmente Alcanzada",IF(N16>0,"Meta Parcialmente Alcanzada"))) -> Ningunha Meta Alcanzada
A17: I7-1 | B17: Nº PDI avaliado en DOCENTIA | C17: PE-02 Xestión de PDI | D17: Cubrir Meta e Resultado Nº acumulado do PDI avaliado en todas as convocatorias do Docentia. Sumar o PDI avaliado do conxunto das convocatorias de avaliación (Suma das 4 convocatorias) | F17: 16 | G17: =+IF(AND(ISBLANK(E17),ISBLANK(F17)),"Introducir Meta e Resultado",IF(ISBLANK(E17),"Introducir Meta",IF(ISBLANK(F17),"Introducir Resultado",IF(F17>=E17,"Meta Conseguida","Meta Non Conseguida")))) -> Introducir Meta | K17: =+IF(AND(ISBLANK(I17),ISBLANK(J17)),"Introducir Meta e Resultado",IF(ISBLANK(I17),"Introducir Meta",IF(ISBLANK(J17),"Introducir Resultado",IF(J17>=I17,"Meta Conseguida","Meta Non Conseguida")))) -> Introducir Meta e Resultado | O17: =+IF(AND(ISBLANK(M17),ISBLANK(N17)),"Introducir Meta e Resultado",IF(ISBLANK(M17),"Introducir Meta",IF(ISBLANK(N17),"Introducir Resultado",IF(N17>=M17,"Meta Conseguida","Meta Non Conseguida")))) -> Introducir Meta e Resultado
A18: I7-2 | B18: % PDI que participa en DOCENTIA | C18: PE-02 Xestión de PDI | D18: Só Cubrir a Meta. O Resultado calcúlase de xeito automático. % do PDI avaliado entre o Nº total de PDI que imparte docencia na titulación, que se calcula a partir do indicador I7-1 e I46. | F18: =+IFERROR(F$17/F$88,0) -> 0.26229508 | G18: =+IF(AND(ISBLANK(E18),ISBLANK(F18)),"Introducir Meta e Resultado",IF(ISBLANK(E18),"Introducir Meta",IF(ISBLANK(F18),"Introducir Resultado",IF(F18>=E18,"Meta Conseguida","Meta Non Conseguida")))) -> Introducir Meta | J18: =+IFERROR(J$17/J$88,0) -> 0 | K18: =+IF(AND(ISBLANK(I18),ISBLANK(J18)),"Introducir Meta e Resultado",IF(ISBLANK(I18),"Introducir Meta",IF(ISBLANK(J18),"Introducir Resultado",IF(J18>=I18,"Meta Conseguida","Meta Non Conseguida")))) -> Introducir Meta | N18: =+IFERROR(N$17/N$88,0) -> 0 | O18: =+IF(AND(ISBLANK(M18),ISBLANK(N18)),"Introducir Meta e Resultado",IF(ISBLANK(M18),"Introducir Meta",IF(ISBLANK(N18),"Introducir Resultado",IF(N18>=M18,"Meta Conseguida","Meta Non Conseguida")))) -> Introducir Meta
A19: I7-3 | B19: Resultados do PDI avaliado | C19: PE-02 Xestión de PDI | D19: Engadir a información da titulación da táboa "2.7 Resultados por centro" do informe institucional de resultados na folla de anexos https://www.uvigo.gal/universidade/calidade/programas-calidade/docencia/programa-docentia | E19: ---- | F19: ---- | G19: ---- | I19: ---- | J19: ---- | K19: ---- | M19: ---- | N19: ---- | O19: ----
A20: I8 | B20: Indicadores de mobilidade do PDI | C20: PE-02 Xestión de PDI | D20: Nº dos obxectivos (I8-1 e I8-2) que se acadan | E20: =+COUNTA(E21:E22) -> 0 | F20: =+COUNTIF(G21:G22,"Meta Conseguida") -> 0 | G20: =+IF(F20=0,"Ningunha Meta Alcanzada",IF(F20>=E20,"Meta Totalmente Alcanzada",IF(F20>0,"Meta Parcialmente Alcanzada"))) -> Ningunha Meta Alcanzada | I20: =+COUNTA(I21:I22) -> 0 | J20: =+COUNTIF(K21:K22,"Meta Conseguida") -> 0 | K20: =+IF(J20=0,"Ningunha Meta Alcanzada",IF(J20>=I20,"Meta Totalmente Alcanzada",IF(J20>0,"Meta Parcialmente Alcanzada"))) -> Ningunha Meta Alcanzada | M20: =+COUNTA(M21:M22) -> 0 | N20: =+COUNTIF(O21:O22,"Meta Conseguida") -> 0 | O20: =+IF(N20=0,"Ningunha Meta Alcanzada",IF(N20>=M20,"Meta Totalmente Alcanzada",IF(N20>0,"Meta Parcialmente Alcanzada"))) -> Ningunha Meta Alcanzada
A21: I8-1 | B21: Nº PDI propio que participa en programas de mobilidade | C21: PE-02 Xestión de PDI | D21: Cubrir Meta e Resultado Seleccionar o dato na consulta "FOR. Formación e mobilidade do PDI" do portal de transparencia https://secretaria.uvigo.gal/uv/web/transparencia/informe/show/5/34/68 Os resultados son do curso 23/24 | F21: 3 | G21: =+IF(AND(ISBLANK(E21),ISBLANK(F21)),"Introducir Meta e Resultado",IF(ISBLANK(E21),"Introducir Meta",IF(ISBLANK(F21),"Introducir Resultado",IF(F21>=E21,"Meta Conseguida","Meta Non Conseguida")))) -> Introducir Meta | K21: =+IF(AND(ISBLANK(I21),ISBLANK(J21)),"Introducir Meta e Resultado",IF(ISBLANK(I21),"Introducir Meta",IF(ISBLANK(J21),"Introducir Resultado",IF(J21>=I21,"Meta Conseguida","Meta Non Conseguida")))) -> Introducir Meta e Resultado | O21: =+IF(AND(ISBLANK(M21),ISBLANK(N21)),"Introducir Meta e Resultado",IF(ISBLANK(M21),"Introducir Meta",IF(ISBLANK(N21),"Introducir Resultado",IF(N21>=M21,"Meta Conseguida","Meta Non Conseguida")))) -> Introducir Meta e Resultado
A22: I8-2 | B22: % de PDI que participa en programas de mobilidade | C22: PE-02 Xestión de PDI | D22: Só Cubrir a Meta. O Resultado calcúlase de xeito automático. % de PDI que participa en programas de mobilidade con relación ao PDI total, que se calcula a partir dos indicadores I8-1 e I46 | F22: =+IFERROR(F$21/F$88,0) -> 0.049180328 | G22: =+IF(AND(ISBLANK(E22),ISBLANK(F22)),"Introducir Meta e Resultado",IF(ISBLANK(E22),"Introducir Meta",IF(ISBLANK(F22),"Introducir Resultado",IF(F22>=E22,"Meta Conseguida","Meta Non Conseguida")))) -> Introducir Meta | J22: =+IFERROR(J$21/J$88,0) -> 0 | K22: =+IF(AND(ISBLANK(I22),ISBLANK(J22)),"Introducir Meta e Resultado",IF(ISBLANK(I22),"Introducir Meta",IF(ISBLANK(J22),"Introducir Resultado",IF(J22>=I22,"Meta Conseguida","Meta Non Conseguida")))) -> Introducir Meta | N22: =+IFERROR(N$21/N$88,0) -> 0 | O22: =+IF(AND(ISBLANK(M22),ISBLANK(N22)),"Introducir Meta e Resultado",IF(ISBLANK(M22),"Introducir Meta",IF(ISBLANK(N22),"Introducir Resultado",IF(N22>=M22,"Meta Conseguida","Meta Non Conseguida")))) -> Introducir Meta
A23: I9 | B23: Distribución de alumnado por centros de prácticas | C23: DO-0204 Xestión de prácticas | D23: Este indicador atópase no rexistro "R1 DO-0204" na aplicación SGIC da secretaría virtual: https://secretaria.uvigo.gal/uv/web/sgic/admin/evidencias/list | E23: ---- | F23: ---- | G23: ---- | I23: ---- | J23: ---- | K23: ---- | M23: ---- | N23: ---- | O23: ----
A24: I10 | B24: Indicadores de resultados | C24: DE-02 Seguimento e Medición; DE-03 Revisión do sistema pola dirección | D24: Nº dos obxectivos (I10-1 ata I10-12) que se acadan | E24: =+COUNTA(E25:E30)+COUNTA(E32:E33)+COUNTA(E35:E36) -> 0 | F24: =+COUNTIF(G25:G36,"Meta Conseguida") -> 0 | G24: =+IF(F24=0,"Ningunha Meta Alcanzada",IF(F24>=E24,"Meta Totalmente Alcanzada",IF(F24>0,"Meta Parcialmente Alcanzada"))) -> Ningunha Meta Alcanzada | I24: =+COUNTA(I25:I30)+COUNTA(I32:I33)+COUNTA(I35:I36) -> 0 | J24: =+COUNTIF(K25:K36,"Meta Conseguida") -> 0 | K24: =+IF(J24=0,"Ningunha Meta Alcanzada",IF(J24>=I24,"Meta Totalmente Alcanzada",IF(J24>0,"Meta Parcialmente Alcanzada"))) -> Ningunha Meta Alcanzada | M24: =+COUNTA(M25:M30)+COUNTA(M32:M33)+COUNTA(M35:M36) -> 0 | N24: =+COUNTIF(O25:O36,"Meta Conseguida") -> 0 | O24: =+IF(N24=0,"Ningunha Meta Alcanzada",IF(N24>=M24,"Meta Totalmente Alcanzada",IF(N24>0,"Meta Parcialmente Alcanzada"))) -> Ningunha Meta Alcanzada
A25: I10-1 | B25: Taxa de graduación da titulación | C25: DE-02 Seguimento e Medición; DE-03 Revisión do sistema pola dirección | D25: Cubrir Meta e Resultado Escoller o documento excel do grao ou máster segundo o caso, do menú de GRA. Graduación https://secretaria.uvigo.gal/uv/web/transparencia/informe/show/5/51/66 Os resultados son do curso 22/23 | F25: 0.3220339 | G25: =+IF(AND(ISBLANK(E25),ISBLANK(F25)),"Introducir Meta e Resultado",IF(ISBLANK(E25),"Introducir Meta",IF(ISBLANK(F25),"Introducir Resultado",IF(F25>=E25,"Meta Conseguida","Meta Non Conseguida")))) -> Introducir Meta | K25: =+IF(AND(ISBLANK(I25),ISBLANK(J25)),"Introducir Meta e Resultado",IF(ISBLANK(I25),"Introducir Meta",IF(ISBLANK(J25),"Introducir Resultado",IF(J25>=I25,"Meta Conseguida","Meta Non Conseguida")))) -> Introducir Meta e Resultado | O25: =+IF(AND(ISBLANK(M25),ISBLANK(N25)),"Introducir Meta e Resultado",IF(ISBLANK(M25),"Introducir Meta",IF(ISBLANK(N25),"Introducir Resultado",IF(N25>=M25,"Meta Conseguida","Meta Non Conseguida")))) -> Introducir Meta e Resultado
A26: I10-2 | B26: Taxa de abandono da titulación (CURSA) | C26: DE-02 Seguimento e Medición; DE-03 Revisión do sistema pola dirección | D26: Cubrir Meta e Resultado. O indicador acádase se o resultado é igual ou inferior á meta Escoller o documento excel do grao ou máster segundo o caso, do menú ABA: abandono https://secretaria.uvigo.gal/uv/web/transparencia/informe/show/5/51/65 Os resultados son do curso 23/24 | F26: 0.37209302 | G26: =+IF(AND(ISBLANK(E26),ISBLANK(F26)),"Introducir Meta e Resultado",IF(ISBLANK(E26),"Introducir Meta",IF(ISBLANK(F26),"Introducir Resultado",IF(F26<=E26,"Meta Conseguida","Meta Non Conseguida")))) -> Introducir Meta | K26: =+IF(AND(ISBLANK(I26),ISBLANK(J26)),"Introducir Meta e Resultado",IF(ISBLANK(I26),"Introducir Meta",IF(ISBLANK(J26),"Introducir Resultado",IF(J26<=I26,"Meta Conseguida","Meta Non Conseguida")))) -> Introducir Meta e Resultado | O26: =+IF(AND(ISBLANK(M26),ISBLANK(N26)),"Introducir Meta e Resultado",IF(ISBLANK(M26),"Introducir Meta",IF(ISBLANK(N26),"Introducir Resultado",IF(N26<=M26,"Meta Conseguida","Meta Non Conseguida")))) -> Introducir Meta e Resultado
A27: I10-3 | B27: Taxa de eficiencia | C27: DE-02 Seguimento e Medición; DE-03 Revisión do sistema pola dirección | D27: Cubrir Meta e Resultado Escoller o documento excel do grao ou máster segundo o caso, do menú de GRA. Graduación https://secretaria.uvigo.gal/uv/web/transparencia/informe/show/5/51/66 Os resultados son do curso 22/23 | F27: 0.83242059 | G27: =+IF(AND(ISBLANK(E27),ISBLANK(F27)),"Introducir Meta e Resultado",IF(ISBLANK(E27),"Introducir Meta",IF(ISBLANK(F27),"Introducir Resultado",IF(F27>=E27,"Meta Conseguida","Meta Non Conseguida")))) -> Introducir Meta | K27: =+IF(AND(ISBLANK(I27),ISBLANK(J27)),"Introducir Meta e Resultado",IF(ISBLANK(I27),"Introducir Meta",IF(ISBLANK(J27),"Introducir Resultado",IF(J27>=I27,"Meta Conseguida","Meta Non Conseguida")))) -> Introducir Meta e Resultado | O27: =+IF(AND(ISBLANK(M27),ISBLANK(N27)),"Introducir Meta e Resultado",IF(ISBLANK(M27),"Introducir Meta",IF(ISBLANK(N27),"Introducir Resultado",IF(N27>=M27,"Meta Conseguida","Meta Non Conseguida")))) -> Introducir Meta e Resultado
A28: I10-4 | B28: Taxa de Rendemento | C28: DE-02 Seguimento e Medición; DE-03 Revisión do sistema pola dirección | D28: Cubrir Meta e Resultado Elixir o documento excel do grao ou máster segundo o caso, do menú REN Rendemento https://secretaria.uvigo.gal/uv/web/transparencia/informe/show/5/51/64 Os resultados son do curso 23/24 | F28: 0.63748191 | G28: =+IF(AND(ISBLANK(E28),ISBLANK(F28)),"Introducir Meta e Resultado",IF(ISBLANK(E28),"Introducir Meta",IF(ISBLANK(F28),"Introducir Resultado",IF(F28>=E28,"Meta Conseguida","Meta Non Conseguida")))) -> Introducir Meta | K28: =+IF(AND(ISBLANK(I28),ISBLANK(J28)),"Introducir Meta e Resultado",IF(ISBLANK(I28),"Introducir Meta",IF(ISBLANK(J28),"Introducir Resultado",IF(J28>=I28,"Meta Conseguida","Meta Non Conseguida")))) -> Introducir Meta e Resultado | O28: =+IF(AND(ISBLANK(M28),ISBLANK(N28)),"Introducir Meta e Resultado",IF(ISBLANK(M28),"Introducir Meta",IF(ISBLANK(N28),"Introducir Resultado",IF(N28>=M28,"Meta Conseguida","Meta Non Conseguida")))) -> Introducir Meta e Resultado
A29: I10-5 | B29: Taxa de éxito | C29: DE-02 Seguimento e Medición; DE-03 Revisión do sistema pola dirección | D29: Cubrir Meta e Resultado Elixir o documento excel do grao ou máster segundo o caso, do menú REN Rendemento https://secretaria.uvigo.gal/uv/web/transparencia/informe/show/5/51/64 Os resultados son do curso 23/24 | F29: 0.79084381 | G29: =+IF(AND(ISBLANK(E29),ISBLANK(F29)),"Introducir Meta e Resultado",IF(ISBLANK(E29),"Introducir Meta",IF(ISBLANK(F29),"Introducir Resultado",IF(F29>=E29,"Meta Conseguida","Meta Non Conseguida")))) -> Introducir Meta | K29: =+IF(AND(ISBLANK(I29),ISBLANK(J29)),"Introducir Meta e Resultado",IF(ISBLANK(I29),"Introducir Meta",IF(ISBLANK(J29),"Introducir Resultado",IF(J29>=I29,"Meta Conseguida","Meta Non Conseguida")))) -> Introducir Meta e Resultado | O29: =+IF(AND(ISBLANK(M29),ISBLANK(N29)),"Introducir Meta e Resultado",IF(ISBLANK(M29),"Introducir Meta",IF(ISBLANK(N29),"Introducir Resultado",IF(N29>=M29,"Meta Conseguida","Meta Non Conseguida")))) -> Introducir Meta e Resultado
A30: I10-6 | B30: Taxa de avaliación | C30: DE-02 Seguimento e Medición; DE-03 Revisión do sistema pola dirección | D30: Cubrir Meta e Resultado Elixir o documento excel do grao ou máster segundo o caso, do menú REN Rendemento https://secretaria.uvigo.gal/uv/web/transparencia/informe/show/5/51/64 Os resultados son do curso 23/24 | F30: 0.80607815 | G30: =+IF(AND(ISBLANK(E30),ISBLANK(F30)),"Introducir Meta e Resultado",IF(ISBLANK(E30),"Introducir Meta",IF(ISBLANK(F30),"Introducir Resultado",IF(F30>=E30,"Meta Conseguida","Meta Non Conseguida")))) -> Introducir Meta | K30: =+IF(AND(ISBLANK(I30),ISBLANK(J30)),"Introducir Meta e Resultado",IF(ISBLANK(I30),"Introducir Meta",IF(ISBLANK(J30),"Introducir Resultado",IF(J30>=I30,"Meta Conseguida","Meta Non Conseguida")))) -> Introducir Meta e Resultado | O30: =+IF(AND(ISBLANK(M30),ISBLANK(N30)),"Introducir Meta e Resultado",IF(ISBLANK(M30),"Introducir Meta",IF(ISBLANK(N30),"Introducir Resultado",IF(N30>=M30,"Meta Conseguida","Meta Non Conseguida")))) -> Introducir Meta e Resultado
A31: I10-7 | B31: Taxa de Rendemento por materia | C31: DE-02 Seguimento e Medición; DE-03 Revisión do sistema pola dirección | D31: Engadir a información na Folla Anexos do Cadro de Mando, sobre as taxas de rendemento das titulación que se pode obter na consulta REN. Rendemento por materia https://secretaria.uvigo.gal/uv/web/transparencia/informe/show/5/51/64 | E31: ---- | F31: ---- | G31: ---- | I31: ---- | J31: ---- | K31: ---- | M31: ---- | N31: ---- | O31: ----
A32: I10-8 | B32: Valor mínimo das taxas de Rendemento dunha materia da titulación | C32: DE-02 Seguimento e Medición; DE-03 Revisión do sistema pola dirección | D32: Só Cubrir a Meta. O Resultado calcúlase de xeito automático. Indicar o valor mínimo das taxas de rendemento das materias da titulación, do indicador I10-7 | F32: =+MIN(Anexos!$R$6:$R$100) -> 0.16107383 | G32: =+IF(AND(ISBLANK(E32),ISBLANK(F32)),"Introducir Meta e Resultado",IF(ISBLANK(E32),"Introducir Meta",IF(ISBLANK(F32),"Introducir Resultado",IF(F32>=E32,"Meta Conseguida","Meta Non Conseguida")))) -> Introducir Meta | J32: =+MIN(Anexos!$AR$6:$AR$100) -> 0 | K32: =+IF(AND(ISBLANK(I32),ISBLANK(J32)),"Introducir Meta e Resultado",IF(ISBLANK(I32),"Introducir Meta",IF(ISBLANK(J32),"Introducir Resultado",IF(J32>=I32,"Meta Conseguida","Meta Non Conseguida")))) -> Introducir Meta | N32: =+MIN(Anexos!$BR$6:$BR$100) -> 0 | O32: =+IF(AND(ISBLANK(M32),ISBLANK(N32)),"Introducir Meta e Resultado",IF(ISBLANK(M32),"Introducir Meta",IF(ISBLANK(N32),"Introducir Resultado",IF(N32>=M32,"Meta Conseguida","Meta Non Conseguida")))) -> Introducir Meta
A33: I10-9 | B33: % de materias que acadan unha Taxa de Rendemento de XX% | C33: DE-02 Seguimento e Medición; DE-03 Revisión do sistema pola dirección | D33: Só Cubrir a Meta. O Resultado calcúlase de xeito automático. Indicar a % de materias cunha taxa de rendemento igual ou superior a un valor establecido (Por exemplo o 50%). O Resultado calcúlase de xeito automático, indicando na columna T da folla "Anexos" o valor establecido da taxa de cada materia | F33: =Anexos!$V$3 -> 1 | G33: =+IF(AND(ISBLANK(E33),ISBLANK(F33)),"Introducir Meta e Resultado",IF(ISBLANK(E33),"Introducir Meta",IF(ISBLANK(F33),"Introducir Resultado",IF(F33>=E33,"Meta Conseguida","Meta Non Conseguida")))) -> Introducir Meta | J33: =Anexos!$AV$3 -> 0 | K33: =+IF(AND(ISBLANK(I33),ISBLANK(J33)),"Introducir Meta e Resultado",IF(ISBLANK(I33),"Introducir Meta",IF(ISBLANK(J33),"Introducir Resultado",IF(J33>=I33,"Meta Conseguida","Meta Non Conseguida")))) -> Introducir Meta | N33: =Anexos!$BV$3 -> 0 | O33: =+IF(AND(ISBLANK(M33),ISBLANK(N33)),"Introducir Meta e Resultado",IF(ISBLANK(M33),"Introducir Meta",IF(ISBLANK(N33),"Introducir Resultado",IF(N33>=M33,"Meta Conseguida","Meta Non Conseguida")))) -> Introducir Meta
A34: I10-10 | B34: Taxa de éxito por materia | C34: DE-02 Seguimento e Medición; DE-03 Revisión do sistema pola dirección | D34: Engadir a información na Folla Anexos do Cadro de Mando, sobre as taxas de Éxito das titulación que se pode obter na consulta REN. Rendemento por materia https://secretaria.uvigo.gal/uv/web/transparencia/informe/show/5/51/64 | E34: ---- | F34: ---- | G34: ---- | I34: ---- | J34: ---- | K34: ---- | M34: ---- | N34: ---- | O34: ----
A35: I10-11 | B35: Valor mínimo das taxas de Éxito dunha materia da titulación | C35: DE-02 Seguimento e Medición; DE-03 Revisión do sistema pola dirección | D35: Só Cubrir a Meta. O Resultado calcúlase de xeito automático. Indicar o valor mínimo das taxas de Éxito das materias da titulación, do indicador I10-10 | F35: =+MIN(Anexos!$Q$6:$Q$100) -> 0.30379747 | G35: =+IF(AND(ISBLANK(E35),ISBLANK(F35)),"Introducir Meta e Resultado",IF(ISBLANK(E35),"Introducir Meta",IF(ISBLANK(F35),"Introducir Resultado",IF(F35>=E35,"Meta Conseguida","Meta Non Conseguida")))) -> Introducir Meta | J35: =+MIN(Anexos!$AQ$6:$AQ$100) -> 0 | K35: =+IF(AND(ISBLANK(I35),ISBLANK(J35)),"Introducir Meta e Resultado",IF(ISBLANK(I35),"Introducir Meta",IF(ISBLANK(J35),"Introducir Resultado",IF(J35>=I35,"Meta Conseguida","Meta Non Conseguida")))) -> Introducir Meta | N35: =+MIN(Anexos!$BQ$6:$BQ$100) -> 0 | O35: =+IF(AND(ISBLANK(M35),ISBLANK(N35)),"Introducir Meta e Resultado",IF(ISBLANK(M35),"Introducir Meta",IF(ISBLANK(N35),"Introducir Resultado",IF(N35>=M35,"Meta Conseguida","Meta Non Conseguida")))) -> Introducir Meta
A36: I10-12 | B36: Xº de materias que acadan unha Taxa de Éxito de XX% | C36: DE-02 Seguimento e Medición; DE-03 Revisión do sistema pola dirección | D36: Só Cubrir a Meta. O Resultado calcúlase de xeito automático. Indicar a % de materias cunha taxa de Éxito igual ou superior a un valor establecido (Por exemplo o 50%). O Resultado calcúlase de xeito automático, indicando na columna S da folla "Anexos" o valor establecido da taxa de cada materia | F36: =Anexos!$U$3 -> 1 | G36: =+IF(AND(ISBLANK(E36),ISBLANK(F36)),"Introducir Meta e Resultado",IF(ISBLANK(E36),"Introducir Meta",IF(ISBLANK(F36),"Introducir Resultado",IF(F36>=E36,"Meta Conseguida","Meta Non Conseguida")))) -> Introducir Meta | J36: =Anexos!$AU$3 -> 0 | K36: =+IF(AND(ISBLANK(I36),ISBLANK(J36)),"Introducir Meta e Resultado",IF(ISBLANK(I36),"Introducir Meta",IF(ISBLANK(J36),"Introducir Resultado",IF(J36>=I36,"Meta Conseguida","Meta Non Conseguida")))) -> Introducir Meta | N36: =Anexos!$BU$3 -> 0 | O36: =+IF(AND(ISBLANK(M36),ISBLANK(N36)),"Introducir Meta e Resultado",IF(ISBLANK(M36),"Introducir Meta",IF(ISBLANK(N36),"Introducir Resultado",IF(N36>=M36,"Meta Conseguida","Meta Non Conseguida")))) -> Introducir Meta
A37: I11 | B37: Relación de Oferta / Demanda de prazas | C37: AC-01: Acceso, evolución e Expedición de Titulos Oficiais | D37: Nº dos obxectivos (I11-1, I11-2 e I11-3) que se acadan | E37: =+COUNTA(E38:E40) -> 0 | F37: =+COUNTIF(G38:G40,"Meta Conseguida") -> 0 | G37: =+IF(F37=0,"Ningunha Meta Alcanzada",IF(F37>=E37,"Meta Totalmente Alcanzada",IF(F37>0,"Meta Parcialmente Alcanzada"))) -> Ningunha Meta Alcanzada | I37: =+COUNTA(I38:I40) -> 0 | J37: =+COUNTIF(K38:K40,"Meta Conseguida") -> 0 | K37: =+IF(J37=0,"Ningunha Meta Alcanzada",IF(J37>=I37,"Meta Totalmente Alcanzada",IF(J37>0,"Meta Parcialmente Alcanzada"))) -> Ningunha Meta Alcanzada | M37: =+COUNTA(M38:M40) -> 0 | N37: =+COUNTIF(O38:O40,"Meta Conseguida") -> 0 | O37: =+IF(N37=0,"Ningunha Meta Alcanzada",IF(N37>=M37,"Meta Totalmente Alcanzada",IF(N37>0,"Meta Parcialmente Alcanzada"))) -> Ningunha Meta Alcanzada
A38: I11-1 | B38: Taxa de Ocupación | C38: AC-01: Acceso, evolución e Expedición de Titulos Oficiais | D38: Cubrir Meta e Resultado (só Graos) Acceder á consulta de PRE.GRA Admisión de Grao, https://secretaria.uvigo.gal/uv/web/transparencia/informe/show/5/51/3 Posteriormente elixir a folla de Taxas de ocupación, preferencia e adecuación Son os resultados do curso 23-24 | F38: 0.87777778 | G38: =+IF(AND(ISBLANK(E38),ISBLANK(F38)),"Introducir Meta e Resultado",IF(ISBLANK(E38),"Introducir Meta",IF(ISBLANK(F38),"Introducir Resultado",IF(F38>=E38,"Meta Conseguida","Meta Non Conseguida")))) -> Introducir Meta | K38: =+IF(AND(ISBLANK(I38),ISBLANK(J38)),"Introducir Meta e Resultado",IF(ISBLANK(I38),"Introducir Meta",IF(ISBLANK(J38),"Introducir Resultado",IF(J38>=I38,"Meta Conseguida","Meta Non Conseguida")))) -> Introducir Meta e Resultado | O38: =+IF(AND(ISBLANK(M38),ISBLANK(N38)),"Introducir Meta e Resultado",IF(ISBLANK(M38),"Introducir Meta",IF(ISBLANK(N38),"Introducir Resultado",IF(N38>=M38,"Meta Conseguida","Meta Non Conseguida")))) -> Introducir Meta e Resultado
A39: I11-2 | B39: Taxa de Preferencia (só Graos) | C39: AC-01: Acceso, evolución e Expedición de Titulos Oficiais | D39: Cubrir Meta e Resultado (só Graos) Acceder á consulta de PRE.GRA Admisión de Grao, https://secretaria.uvigo.gal/uv/web/transparencia/informe/show/5/51/3 Posteriormente elixir a folla de Taxas de ocupación, preferencia e adecuación Son os resultados do curso 23-24 | F39: 1.0444444 | G39: =+IF(AND(ISBLANK(E39),ISBLANK(F39)),"Introducir Meta e Resultado",IF(ISBLANK(E39),"Introducir Meta",IF(ISBLANK(F39),"Introducir Resultado",IF(F39>=E39,"Meta Conseguida","Meta Non Conseguida")))) -> Introducir Meta | K39: =+IF(AND(ISBLANK(I39),ISBLANK(J39)),"Introducir Meta e Resultado",IF(ISBLANK(I39),"Introducir Meta",IF(ISBLANK(J39),"Introducir Resultado",IF(J39>=I39,"Meta Conseguida","Meta Non Conseguida")))) -> Introducir Meta e Resultado | O39: =+IF(AND(ISBLANK(M39),ISBLANK(N39)),"Introducir Meta e Resultado",IF(ISBLANK(M39),"Introducir Meta",IF(ISBLANK(N39),"Introducir Resultado",IF(N39>=M39,"Meta Conseguida","Meta Non Conseguida")))) -> Introducir Meta e Resultado
A40: I11-3 | B40: Taxa de Adecuación (só Graos) | C40: AC-01: Acceso, evolución e Expedición de Titulos Oficiais | D40: Cubrir Meta e Resultado (só Graos) Acceder á consulta de PRE.GRA Admisión de Grao, https://secretaria.uvigo.gal/uv/web/transparencia/informe/show/5/51/3 Posteriormente elixir a folla de Taxas de ocupación, preferencia e adecuación Son os resultados do curso 23-24 | F40: 0.91139241 | G40: =+IF(AND(ISBLANK(E40),ISBLANK(F40)),"Introducir Meta e Resultado",IF(ISBLANK(E40),"Introducir Meta",IF(ISBLANK(F40),"Introducir Resultado",IF(F40>=E40,"Meta Conseguida","Meta Non Conseguida")))) -> Introducir Meta | K40: =+IF(AND(ISBLANK(I40),ISBLANK(J40)),"Introducir Meta e Resultado",IF(ISBLANK(I40),"Introducir Meta",IF(ISBLANK(J40),"Introducir Resultado",IF(J40>=I40,"Meta Conseguida","Meta Non Conseguida")))) -> Introducir Meta e Resultado | O40: =+IF(AND(ISBLANK(M40),ISBLANK(N40)),"Introducir Meta e Resultado",IF(ISBLANK(M40),"Introducir Meta",IF(ISBLANK(N40),"Introducir Resultado",IF(N40>=M40,"Meta Conseguida","Meta Non Conseguida")))) -> Introducir Meta e Resultado
A41: I12 | B41: Resultados de inserción laboral | C41: DE-02 Seguimento e Medición; DE-03 Revisión do sistema pola dirección | D41: Só cubrir o Resultado, é un indicador informativo Introducir a inserción laboral da da titulación da secretaría virtual https://secretaria.uvigo.gal/uv/web/transparencia/grupo/show/5/69 Son os resultados do informe da UVIGO do 2020/21 | E41: ---- | F41: 0.5 | G41: =+IF(ISBLANK(F41),"Introducir Resultado","Indicador Completado") -> Indicador Completado | I41: ---- | K41: =+IF(ISBLANK(J41),"Introducir Resultado","Indicador Completado") -> Introducir Resultado | M41: ---- | O41: =+IF(ISBLANK(N41),"Introducir Resultado","Indicador Completado") -> Introducir Resultado
A42: I13 | B42: Media alumnos por grupo de docencia ou PDA | C42: DO-0201 Planificación e desenvolvemento da ensinanza | D42: Este indicador atópase no rexistro "R1 DO-0201 PDA" na aplicación SGIC da secretaría virtual: https://secretaria.uvigo.gal/uv/web/sgic/admin/evidencias/list | E42: ---- | F42: ---- | G42: ---- | I42: ---- | J42: ---- | K42: ---- | M42: ---- | N42: ---- | O42: ----
...

Sheet MPemes
A2: Panel de indicadores- Cadro de mando do Máster Universitario en Dirección de PEMES
A4: Indicadores | C4: Procedimientos asociados | E4: =+Centro!E4 -> Curso X | I4: =+Centro!I4 -> Curso X+1 | M4: =+Centro!M4 -> Curso X+2
A5: Cod | B5: Denominación Indicador | C5: Denominación | D5: Descripción e Fonte de Información | E5: Meta | F5: Resultado | G5: Observacións | I5: Meta | J5: Resultado | K5: Observacións | M5: Meta | N5: Resultado | O5: Observacións
A6: Indicadores dos Programas de Calidade
A7: I1-I2 | B7: Nº Estudantes de novo ingreso (Grao e Máster) | C7: AC-01: Acceso, evolución e Expedición de Titulos Oficiais | D7: Cubrir Meta e Resultado Elixir o documento Grao ACC_1 ou Máster ACC_1, segundo o caso: https://secretaria.uvigo.gal/uv/web/transparencia/informe/show/5/51/63 Os resultados son do curso 23/24 | F7: 29 | G7: =+IF(AND(ISBLANK(E7),ISBLANK(F7)),"Introducir Meta e Resultado",IF(ISBLANK(E7),"Introducir Meta",IF(ISBLANK(F7),"Introducir Resultado",IF(F7>=E7,"Meta Conseguida","Meta Non Conseguida")))) -> Introducir Meta | K7: =+IF(AND(ISBLANK(I7),ISBLANK(J7)),"Introducir Meta e Resultado",IF(ISBLANK(I7),"Introducir Meta",IF(ISBLANK(J7),"Introducir Resultado",IF(J7>=I7,"Meta Conseguida","Meta Non Conseguida")))) -> Introducir Meta e Resultado | O7: =+IF(AND(ISBLANK(M7),ISBLANK(N7)),"Introducir Meta e Resultado",IF(ISBLANK(M7),"Introducir Meta",IF(ISBLANK(N7),"Introducir Resultado",IF(N7>=M7,"Meta Conseguida","Meta Non Conseguida")))) -> Introducir Meta e Resultado
A8: I3 | B8: Indicadores de mobilidade do estudantado | C8: DO-0205: Xestión da mobilidade | D8: Nº dos obxectivos I3-1 e I3-2 que se acadan | E8: =+COUNTA(E9:E10) -> 0 | F8: =+COUNTIF(G9:G10,"Meta Conseguida") -> 0 | G8: =+IF(F8=0,"Ningunha Meta Alcanzada",IF(F8>=E8,"Meta Totalmente Alcanzada",IF(F8>0,"Meta Parcialmente Alcanzada"))) -> Ningunha Meta Alcanzada | I8: =+COUNTA(I9:I10) -> 0 | J8: =+COUNTIF(K9:K10,"Meta Conseguida") -> 0 | K8: =+IF(J8=0,"Ningunha Meta Alcanzada",IF(J8>=I8,"Meta Totalmente Alcanzada",IF(J8>0,"Meta Parcialmente Alcanzada"))) -> Ningunha Meta Alcanzada | M8: =+COUNTA(M9:M10) -> 0 | N8: =+COUNTIF(O9:O10,"Meta Conseguida") -> 0 | O8: =+IF(N8=0,"Ningunha Meta Alcanzada",IF(N8>=M8,"Meta Totalmente Alcanzada",IF(N8>0,"Meta Parcialmente Alcanzada"))) -> Ningunha Meta Alcanzada
A9: I3-1 | B9: Nº Estudantes propios que participan en programas de mobilidade | C9: DO-0205: Xestión da mobilidade | D9: Cubrir Meta e Resultado Selecciónar o dato da titulación da columna "Total_SAÍNTE" da Folla Mobilidade_TOTAL do documento "Mobilidade" do portal de transparencia. https://secretaria.uvigo.gal/uv/web/transparencia/informe/show/5/4/19 Os resultados son do curso 23/24 | F9: 0 | G9: =+IF(AND(ISBLANK(E9),ISBLANK(F9)),"Introducir Meta e Resultado",IF(ISBLANK(E9),"Introducir Meta",IF(ISBLANK(F9),"Introducir Resultado",IF(F9>=E9,"Meta Conseguida","Meta Non Conseguida")))) -> Introducir Meta | K9: =+IF(AND(ISBLANK(I9),ISBLANK(J9)),"Introducir Meta e Resultado",IF(ISBLANK(I9),"Introducir Meta",IF(ISBLANK(J9),"Introducir Resultado",IF(J9>=I9,"Meta Conseguida","Meta Non Conseguida")))) -> Introducir Meta e Resultado | O9: =+IF(AND(ISBLANK(M9),ISBLANK(N9)),"Introducir Meta e Resultado",IF(ISBLANK(M9),"Introducir Meta",IF(ISBLANK(N9),"Introducir Resultado",IF(N9>=M9,"Meta Conseguida","Meta Non Conseguida")))) -> Introducir Meta e Resultado
